BEGIN:VCALENDAR
VERSION:2.0
PRODID:Events Booking
BEGIN:VEVENT
UID:69eaafa5648be
SUMMARY:RBSS meets BAST: surgical simulator training 2024
DESCRIPTION:The RBSS Education Committee is organising together with BAST t
 heir fourth 'RBSS meets BAST' training day.
 This year\, again in the Wal
 lonia part of our country and centrally located in Namur\, again a combina
 tion of practical training sessions in general\, visceral\, vascular and t
 horacic techniques on Saturday will be the core of this exciting event.
 
 Registration is now open!
 Registration on a 'First come\, first serve' b
 ase. Priority is given to BAST/RBSS block members\, although non-members c
 an register for this event also although under condition of synchronous re
 gistration for RBSS/BAST block membership.
 &nbsp\;
 &nbsp\;
 &nbsp\;
LOCATION:Av. Baron de Moreau 1\, 5000 Namur\, België
DTSTART:20240120T080000Z
DTEND:20240120T160000Z
DTSTAMP:20231104T080649Z
ORGANIZER;CN=Royal Belgian Society for Surgery Secretariat:MAILTO:info@rbss
 .be
GEO:50.457042;4.863028
X-APPLE-STRUCTURED-LOCATION;VALUE=URI;X-ADDRESS=Av. Baron de Moreau 1\, 500
 0 Namur\, België;X-APPLE-RADIUS=72;X-TITLE=Circus Casino Hotel Namur:50.4
 57042;4.863028
END:VEVENT
END:VCALENDAR