BEGIN:VCALENDAR
VERSION:2.0
PRODID:Events Booking
BEGIN:VEVENT
UID:69e9a5f205612
SUMMARY:Congrès de Chirurgie Thoracique 20 & 21 mars 2025
DESCRIPTION:&nbsp\;
 &nbsp\;
LOCATION:Chau. de Mons 22\, 1400 Nivelles\, België
DTSTART:20250320T080000Z
DTEND:20240321T153000Z
DTSTAMP:20260423T065410Z
ORGANIZER;CN=Royal Belgian Society for Surgery Secretariat:MAILTO:info@rbss
 .be
GEO:50.588511;4.30607
X-APPLE-STRUCTURED-LOCATION;VALUE=URI;X-ADDRESS=Chau. de Mons 22\, 1400 Niv
 elles\, België;X-APPLE-RADIUS=72;X-TITLE=Van der Valk Mons:50.588511;4.30
 607
END:VEVENT
END:VCALENDAR