BEGIN:VCALENDAR
VERSION:2.0
PRODID:Events Booking
BEGIN:VEVENT
UID:69e757b07b640
SUMMARY:ATLS.be course (NL) (Genk)
DESCRIPTION:Our next ATLS course\, organised by RBSS\, will take place on D
 ecember 01 and 02 2023. This will be a Flemish language course held on the
  campus of Ziekenhuis Oost Limburg in Genk. Course
 Director: C. Van Dijc
 k (ZOL) &nbsp\;
 The registration fees are 900€ for residents and 1200 
 € for consultants and open for RBSS and non-RBSS members.
 Only physici
 ans with a Belgian RIZIV/INAMI number can participate. Please register usi
 ng the button below\, after which you will be contacted by our secretariat
  who will coordinate with you in regards to the practicalities of the cour
 se. Places are limited and as such available only on a first come\, first 
 served-principle. &nbsp\;
LOCATION:Schiepse Bos 6\, 3600 Genk\, België
DTSTART:20231201T064500Z
DTEND:20231202T180000Z
DTSTAMP:20260421T125544Z
ORGANIZER;CN=Royal Belgian Society for Surgery Secretariat:MAILTO:info@rbss
 .be
GEO:50.957744;5.517232
X-APPLE-STRUCTURED-LOCATION;VALUE=URI;X-ADDRESS=Schiepse Bos 6\, 3600 Genk\
 , België;X-APPLE-RADIUS=72;X-TITLE=ZOL Genk:50.957744;5.517232
END:VEVENT
END:VCALENDAR